BEGIN:VCALENDAR
VERSION:2.0
PRODID:-//Tukios.com/
BEGIN:VEVENT
UID:c74c1509-4459-4306-8087-1bcf336e3709@www.newhopefh.com
DTSTAMP:20260421T085651Z
DTSTART:20260417T210000Z
DTEND:20260418T010000Z
SUMMARY:Visitation
DESCRIPTION:
URL:https://www.newhopefh.com/obituaries/israel-mustelier
LOCATION:New Hope Funeral Home Chapel 500 US Highway 80 E.  Sunnyvale TX 
	75182
GEO:32.7815458;-96.5490075
END:VEVENT
END:VCALENDAR