BEGIN:VCALENDAR
VERSION:2.0
PRODID:-//Tukios.com/
BEGIN:VEVENT
UID:285183bd-2381-43ff-9196-215ab7eb52d5@www.newhopefh.com
DTSTAMP:20260421T015315Z
DTSTART:20260502T193000Z
DTEND:20260502T203000Z
SUMMARY:Funeral Service
DESCRIPTION:
URL:https://www.newhopefh.com/obituaries/karen-lozano
LOCATION:New Hope Funeral Home Chapel 500 US Highway 80 E.  Sunnyvale TX 
	75182
GEO:32.7815458;-96.5490075
END:VEVENT
END:VCALENDAR