BEGIN:VCALENDAR
VERSION:2.0
PRODID:-//Tukios.com/
BEGIN:VEVENT
UID:09f0b703-0a3d-4c02-8d14-32e974aeccf5@www.newhopefh.com
DTSTAMP:20260422T005232Z
DTSTART:20260424T183000Z
DTEND:20260424T190000Z
SUMMARY:Burial
DESCRIPTION:
URL:https://www.newhopefh.com/obituaries/sarah-roberson
LOCATION:Restlawn Memorial Cemetery 13005 Greenville Ave  Dallas TX 75243
GEO:32.9238812;-96.7405344
END:VEVENT
END:VCALENDAR