BEGIN:VCALENDAR
VERSION:2.0
PRODID:-//Tukios.com/
BEGIN:VEVENT
UID:5251f275-0ab6-4d40-bb81-0987e1a85ca7@www.newhopefh.com
DTSTAMP:20260422T004707Z
DTSTART:20260424T160000Z
DTEND:20260424T170000Z
SUMMARY:Funeral Service
DESCRIPTION:
URL:https://www.newhopefh.com/obituaries/sarah-roberson
LOCATION:Eastfield Baptist Church 3714 Motley Dr  Mesquite TX 75150
GEO:32.8139506;-96.6562373
END:VEVENT
END:VCALENDAR