BEGIN:VCALENDAR
VERSION:2.0
PRODID:-//Tukios.com/
BEGIN:VEVENT
UID:1f0729df-1f37-4912-a752-3c225ef2152f@www.newhopefh.com
DTSTAMP:20260422T004225Z
DTSTART:20260424T150000Z
DTEND:20260424T160000Z
SUMMARY:Visitation
DESCRIPTION:
URL:https://www.newhopefh.com/obituaries/sarah-roberson
LOCATION:Eastfield Baptist Church 3714 Motley Dr  Mesquite TX 75150
GEO:32.8139506;-96.6562373
END:VEVENT
END:VCALENDAR