BEGIN:VCALENDAR
VERSION:2.0
PRODID:-//Tukios.com/
BEGIN:VEVENT
UID:40ef1adf-d7a0-466d-9356-3633e1eb570f@www.newhopefh.com
DTSTAMP:20260421T195752Z
DTSTART:20260424
SUMMARY:Cryptside Service
DESCRIPTION:
URL:https://www.newhopefh.com/obituaries/william-kucera
LOCATION:Sacred Heart Mausoleum 3900 Rowlett Rd  Rowlett TX 75088
GEO:32.8960485;-96.5683297
END:VEVENT
END:VCALENDAR