BEGIN:VCALENDAR
VERSION:2.0
PRODID:-//Tukios.com/
BEGIN:VEVENT
UID:fc248dc0-20d4-4fa5-9d7d-7b6f92ea7afc@www.newhopefh.com
DTSTAMP:20260421T200102Z
DTSTART:20260424T150000Z
DTEND:20260424T160000Z
SUMMARY:Mass of Christian Burial
DESCRIPTION:
URL:https://www.newhopefh.com/obituaries/william-kucera
LOCATION:St. Michael the Archangel Catholic Church 950 Trails Parkway  
	Garland TX 75043
GEO:32.8399458;-96.6169416
END:VEVENT
END:VCALENDAR